BEGIN:VCALENDAR
VERSION:2.0
PRODID:-//Maureen Johnson - ECPv6.15.20//NONSGML v1.0//EN
CALSCALE:GREGORIAN
METHOD:PUBLISH
X-WR-CALNAME:Maureen Johnson
X-ORIGINAL-URL:https://maureenjohnsonbooks.com
X-WR-CALDESC:Events for Maureen Johnson
REFRESH-INTERVAL;VALUE=DURATION:PT1H
X-Robots-Tag:noindex
X-PUBLISHED-TTL:PT1H
BEGIN:VTIMEZONE
TZID:America/New_York
BEGIN:DAYLIGHT
TZOFFSETFROM:-0500
TZOFFSETTO:-0400
TZNAME:EDT
DTSTART:20180311T070000
END:DAYLIGHT
BEGIN:STANDARD
TZOFFSETFROM:-0400
TZOFFSETTO:-0500
TZNAME:EST
DTSTART:20181104T060000
END:STANDARD
BEGIN:DAYLIGHT
TZOFFSETFROM:-0500
TZOFFSETTO:-0400
TZNAME:EDT
DTSTART:20190310T070000
END:DAYLIGHT
BEGIN:STANDARD
TZOFFSETFROM:-0400
TZOFFSETTO:-0500
TZNAME:EST
DTSTART:20191103T060000
END:STANDARD
BEGIN:DAYLIGHT
TZOFFSETFROM:-0500
TZOFFSETTO:-0400
TZNAME:EDT
DTSTART:20200308T070000
END:DAYLIGHT
BEGIN:STANDARD
TZOFFSETFROM:-0400
TZOFFSETTO:-0500
TZNAME:EST
DTSTART:20201101T060000
END:STANDARD
END:VTIMEZONE
BEGIN:VEVENT
DTSTART;TZID=America/New_York:20190126T150000
DTEND;TZID=America/New_York:20190126T170000
DTSTAMP:20260421T233111
CREATED:20190104T155300Z
LAST-MODIFIED:20190104T155300Z
UID:2462-1548514800-1548522000@maureenjohnsonbooks.com
SUMMARY:BARNES AND NOBLE\, EASTCHESTER\, NY
DESCRIPTION:It’s the EPIC READS TOUR! Maureen will be with Sara Holland\, Ben Philippe\, and Evelyn Skye. Join us for FUN ROUND TABLE DISCUSSION where we will all hang out and talk BOOKS and WHATEVER ELSE YOU LIKE! \nThis is a ticketed event–you have to buy a book. BUT THEN YOU HAVE A BOOK. \nLET’S HANG OUT TOGETHER!
URL:https://maureenjohnsonbooks.com/event/barnes-and-noble-eastchester-ny/
LOCATION:Barnes and Noble\, Vernon Hills Shopping Center 680 Post Road\, Scarsdale\, NY\, 10583\, United States
ATTACH;FMTTYPE=image/jpeg:https://maureenjohnsonbooks.com/wp-content/uploads/2020/01/M-1-High-Res-scaled.jpg
END:VEVENT
END:VCALENDAR