BEGIN:VCALENDAR
VERSION:2.0
PRODID:-//Maureen Johnson - ECPv6.15.20//NONSGML v1.0//EN
CALSCALE:GREGORIAN
METHOD:PUBLISH
X-WR-CALNAME:Maureen Johnson
X-ORIGINAL-URL:https://maureenjohnsonbooks.com
X-WR-CALDESC:Events for Maureen Johnson
REFRESH-INTERVAL;VALUE=DURATION:PT1H
X-Robots-Tag:noindex
X-PUBLISHED-TTL:PT1H
BEGIN:VTIMEZONE
TZID:America/New_York
BEGIN:DAYLIGHT
TZOFFSETFROM:-0500
TZOFFSETTO:-0400
TZNAME:EDT
DTSTART:20180311T070000
END:DAYLIGHT
BEGIN:STANDARD
TZOFFSETFROM:-0400
TZOFFSETTO:-0500
TZNAME:EST
DTSTART:20181104T060000
END:STANDARD
BEGIN:DAYLIGHT
TZOFFSETFROM:-0500
TZOFFSETTO:-0400
TZNAME:EDT
DTSTART:20190310T070000
END:DAYLIGHT
BEGIN:STANDARD
TZOFFSETFROM:-0400
TZOFFSETTO:-0500
TZNAME:EST
DTSTART:20191103T060000
END:STANDARD
BEGIN:DAYLIGHT
TZOFFSETFROM:-0500
TZOFFSETTO:-0400
TZNAME:EDT
DTSTART:20200308T070000
END:DAYLIGHT
BEGIN:STANDARD
TZOFFSETFROM:-0400
TZOFFSETTO:-0500
TZNAME:EST
DTSTART:20201101T060000
END:STANDARD
END:VTIMEZONE
BEGIN:VEVENT
DTSTART;TZID=America/New_York:20190322T111500
DTEND;TZID=America/New_York:20190322T121500
DTSTAMP:20260421T191123
CREATED:20190116T232929Z
LAST-MODIFIED:20190116T232929Z
UID:2521-1553253300-1553256900@maureenjohnsonbooks.com
SUMMARY:C2E2\, Chicago\, IL
DESCRIPTION:I’ll be at C2E2 for a panel and a signing! \nCONFESSION: I BINGE-WATCH TEEN FLICKS: \nYA Authors Bri Cavallaro (A QUESTION OF HOLMES)\, Tehlor Kay Mejia (WE SET THE DARK ON FIRE)\, Maureen Johnson (THE VANISHING STAIR) and Katy Loutzenhiser (IF YOU’RE OUT THERE) geek out over Netlfix’s most popular teen flicks. Why is binge-watching the high-school experience so enjoyable? Clueless? As if. To All The Boys I’ve Loved Before…we love you Lara Jean! 13 Reasons Why? You shook us to the core. Riverdale. The mystery is killing us! The list goes on and on. Join these authors as they discuss everything from The Breakfast Club to The Chilling Adventures of Sabrina and Dumplin’! \n(Signing to follow)
URL:https://maureenjohnsonbooks.com/event/c2e2-chicago-il/
ATTACH;FMTTYPE=image/jpeg:https://maureenjohnsonbooks.com/wp-content/uploads/2020/01/M-1-High-Res-scaled.jpg
END:VEVENT
END:VCALENDAR