BEGIN:VCALENDAR
VERSION:2.0
PRODID:-//Maureen Johnson - ECPv6.15.20//NONSGML v1.0//EN
CALSCALE:GREGORIAN
METHOD:PUBLISH
X-WR-CALNAME:Maureen Johnson
X-ORIGINAL-URL:https://maureenjohnsonbooks.com
X-WR-CALDESC:Events for Maureen Johnson
REFRESH-INTERVAL;VALUE=DURATION:PT1H
X-Robots-Tag:noindex
X-PUBLISHED-TTL:PT1H
BEGIN:VTIMEZONE
TZID:America/New_York
BEGIN:DAYLIGHT
TZOFFSETFROM:-0500
TZOFFSETTO:-0400
TZNAME:EDT
DTSTART:20180311T070000
END:DAYLIGHT
BEGIN:STANDARD
TZOFFSETFROM:-0400
TZOFFSETTO:-0500
TZNAME:EST
DTSTART:20181104T060000
END:STANDARD
BEGIN:DAYLIGHT
TZOFFSETFROM:-0500
TZOFFSETTO:-0400
TZNAME:EDT
DTSTART:20190310T070000
END:DAYLIGHT
BEGIN:STANDARD
TZOFFSETFROM:-0400
TZOFFSETTO:-0500
TZNAME:EST
DTSTART:20191103T060000
END:STANDARD
BEGIN:DAYLIGHT
TZOFFSETFROM:-0500
TZOFFSETTO:-0400
TZNAME:EDT
DTSTART:20200308T070000
END:DAYLIGHT
BEGIN:STANDARD
TZOFFSETFROM:-0400
TZOFFSETTO:-0500
TZNAME:EST
DTSTART:20201101T060000
END:STANDARD
END:VTIMEZONE
BEGIN:VEVENT
DTSTART;TZID=America/New_York:20190123T190000
DTEND;TZID=America/New_York:20190123T210000
DTSTAMP:20260422T035038
CREATED:20190104T145650Z
LAST-MODIFIED:20190104T155355Z
UID:2452-1548270000-1548277200@maureenjohnsonbooks.com
SUMMARY:JOSEPH-BETH BOOKSTORE\, CINCINNATI\, OH
DESCRIPTION:It’s the EPIC READS TOUR! Maureen will be with Sara Holland\, Ben Philippe\, and Evelyn Skye. Join us for FUN ROUND TABLE DISCUSSION where we will all hang out and talk BOOKS and WHATEVER ELSE YOU LIKE! \nThis is a ticketed event–you have to buy a book. BUT THEN YOU HAVE A BOOK. You can get your ticket here. \nLET’S HANG OUT TOGETHER!
URL:https://maureenjohnsonbooks.com/event/joseph-beth-bookstore-cincinnati-oh/
LOCATION:Joseph-Beth Bookstore\, Cincinnati\, IL\, 2692 Madison Avenue\, CINCINNATI\, IL\, 45208\, United States
ATTACH;FMTTYPE=image/jpeg:https://maureenjohnsonbooks.com/wp-content/uploads/2020/01/M-1-High-Res-scaled.jpg
END:VEVENT
END:VCALENDAR