BEGIN:VCALENDAR
VERSION:2.0
PRODID:-//Maureen Johnson - ECPv6.15.20//NONSGML v1.0//EN
CALSCALE:GREGORIAN
METHOD:PUBLISH
X-WR-CALNAME:Maureen Johnson
X-ORIGINAL-URL:https://maureenjohnsonbooks.com
X-WR-CALDESC:Events for Maureen Johnson
REFRESH-INTERVAL;VALUE=DURATION:PT1H
X-Robots-Tag:noindex
X-PUBLISHED-TTL:PT1H
BEGIN:VTIMEZONE
TZID:America/New_York
BEGIN:DAYLIGHT
TZOFFSETFROM:-0500
TZOFFSETTO:-0400
TZNAME:EDT
DTSTART:20180311T070000
END:DAYLIGHT
BEGIN:STANDARD
TZOFFSETFROM:-0400
TZOFFSETTO:-0500
TZNAME:EST
DTSTART:20181104T060000
END:STANDARD
BEGIN:DAYLIGHT
TZOFFSETFROM:-0500
TZOFFSETTO:-0400
TZNAME:EDT
DTSTART:20190310T070000
END:DAYLIGHT
BEGIN:STANDARD
TZOFFSETFROM:-0400
TZOFFSETTO:-0500
TZNAME:EST
DTSTART:20191103T060000
END:STANDARD
BEGIN:DAYLIGHT
TZOFFSETFROM:-0500
TZOFFSETTO:-0400
TZNAME:EDT
DTSTART:20200308T070000
END:DAYLIGHT
BEGIN:STANDARD
TZOFFSETFROM:-0400
TZOFFSETTO:-0500
TZNAME:EST
DTSTART:20201101T060000
END:STANDARD
END:VTIMEZONE
BEGIN:VEVENT
DTSTART;VALUE=DATE:20190809
DTEND;VALUE=DATE:20190813
DTSTAMP:20260421T054034
CREATED:20190806T151750Z
LAST-MODIFIED:20190806T151750Z
UID:2589-1565308800-1565654399@maureenjohnsonbooks.com
SUMMARY:Leakycon\, Dallas\, TX
DESCRIPTION:I will be returning to LEAKYCON! My schedule is below! \n\nFriday\, August 9\n\n\n\n\nLeakyCon Party Game Hour\n10:15-11:15 AM\, MainStage\nModerator Melissa Anelli (PotterCast) | Maureen Johnson | Tiana Benjamin | Georgina Leonidas\nYou’re going to want to have a lot of Harry Potter facts in your head this weekend\, so why not get warmed up this morning? We’ll be testing your memory and your competitive edge. Will you lead your house to victory?\n\nAdaptations: Watching Your Story Come to Life on Screen \n11:30AM-12:30PM\, MainStage \nModerator Proma Khosla (Mashable) | Maureen Johnson | Becky Albertalli | Angie Thomas | Julie Murphy \n2018 saw movies premiere based on The Hate U Give\, Simon vs. the Homo Sapiens Agenda\, and Dumplin’ and now we’re gearing up for the 2019 premiere of Let It Snow on Netflix. Authors Angie Thomas\, Becky Albertalli\, Julie Murphy\, and Maureen Johnson will discuss what it’s been like to watch their books be adapted and reach wider audiences than ever before. \n\nSigning: 4:30-5PM\, Autograph Area \n  \n\n  \nSaturday\, August 10\n\n\n\n\nThe Truth About Publishing: Author AMA \n12:45-1:45PM\, Occamy Room (D160/172) \n\n\nModerator Maureen Johnson| Becky Albertalli | Nic Stone | Hafsah Faizal | Angie Thomas | Mackenzi Lee\nIs there something you’ve always wanted to know about publishing a book? Now’s your chance to hear the truth directly from our guest authors.\n\n\n\n\n\n\n\nSigning: 3:15-3:45PM\, Autograph Area\n\n\n\n\n\n\n\nWriting Humor\n\n\n4:30-5:30PM\, Occamy Room (D170/172)\n\n\n\n\n\nModerator Proma Khosla (Mashable) | Maureen Johnson| Mackenzi Lee | Becky Albertalli | Justin A. Reynolds\nA line may seem funny in the midst of a deadline-induced writing haze\, but will that translate to editors and readers? We’ll talk about what makes something funny\, how to punch up instead of down\, and other tricks we’ve learned while writing humor.\n\n\n\n\n\n\n\n\n\n\n\n\n\n\n\n\n\n\n\n\nSunday\, August 11\n\n\n\n\n\n\n\n\nLeakyCon Pyramid\n11:30-12:30PM\, MainStage\n\n\n\n\n\nModerator Jim Tavaré (Harry Potter and the Prisoner of Azkaban) | Maureen Johnson| Melissa Anelli (PotterCast) | Mike Schubert (Potterless)\nCan our contestants figure out the words we’re thinking of just from their partners’ clues? Watch as our teams battle for a thousand Galleons* and eternal glory!\n\n*imaginary Galleons\n\n\n\n\n\nSigning: 12:45-1:15\, Autograph Area
URL:https://maureenjohnsonbooks.com/event/leakycon-dallas-tx/
ATTACH;FMTTYPE=image/jpeg:https://maureenjohnsonbooks.com/wp-content/uploads/2020/01/M-1-High-Res-scaled.jpg
END:VEVENT
END:VCALENDAR