BEGIN:VCALENDAR
VERSION:2.0
PRODID:-//Maureen Johnson - ECPv6.15.20//NONSGML v1.0//EN
CALSCALE:GREGORIAN
METHOD:PUBLISH
X-WR-CALNAME:Maureen Johnson
X-ORIGINAL-URL:https://maureenjohnsonbooks.com
X-WR-CALDESC:Events for Maureen Johnson
REFRESH-INTERVAL;VALUE=DURATION:PT1H
X-Robots-Tag:noindex
X-PUBLISHED-TTL:PT1H
BEGIN:VTIMEZONE
TZID:America/New_York
BEGIN:DAYLIGHT
TZOFFSETFROM:-0500
TZOFFSETTO:-0400
TZNAME:EDT
DTSTART:20230312T070000
END:DAYLIGHT
BEGIN:STANDARD
TZOFFSETFROM:-0400
TZOFFSETTO:-0500
TZNAME:EST
DTSTART:20231105T060000
END:STANDARD
BEGIN:DAYLIGHT
TZOFFSETFROM:-0500
TZOFFSETTO:-0400
TZNAME:EDT
DTSTART:20240310T070000
END:DAYLIGHT
BEGIN:STANDARD
TZOFFSETFROM:-0400
TZOFFSETTO:-0500
TZNAME:EST
DTSTART:20241103T060000
END:STANDARD
BEGIN:DAYLIGHT
TZOFFSETFROM:-0500
TZOFFSETTO:-0400
TZNAME:EDT
DTSTART:20250309T070000
END:DAYLIGHT
BEGIN:STANDARD
TZOFFSETFROM:-0400
TZOFFSETTO:-0500
TZNAME:EST
DTSTART:20251102T060000
END:STANDARD
END:VTIMEZONE
BEGIN:VEVENT
DTSTART;VALUE=DATE:20241019
DTEND;VALUE=DATE:20241020
DTSTAMP:20260423T081348
CREATED:20240925T160841Z
LAST-MODIFIED:20241017T181811Z
UID:3573-1729296000-1729382399@maureenjohnsonbooks.com
SUMMARY:MORRISTOWN FESTIVAL OF BOOKS\, MORRISTOWN\, NJ\, OCT 19
DESCRIPTION:I’ll be at the Morristown Festival of Books on October 19! Come for a panel with me and Claire Legrand about writing YA and mystery. Signing immediately to follow. \n3:40-4:40pm at the Presbyterian Parish House (2nd Floor) \nSigning right after at the Author Signing Tent
URL:https://maureenjohnsonbooks.com/event/morristown-festival-of-books-morristown-nj-oct-19/
ATTACH;FMTTYPE=image/png:https://maureenjohnsonbooks.com/wp-content/uploads/2024/09/images.png
END:VEVENT
END:VCALENDAR