BEGIN:VCALENDAR
VERSION:2.0
PRODID:-//Maureen Johnson - ECPv6.15.20//NONSGML v1.0//EN
CALSCALE:GREGORIAN
METHOD:PUBLISH
X-WR-CALNAME:Maureen Johnson
X-ORIGINAL-URL:https://maureenjohnsonbooks.com
X-WR-CALDESC:Events for Maureen Johnson
REFRESH-INTERVAL;VALUE=DURATION:PT1H
X-Robots-Tag:noindex
X-PUBLISHED-TTL:PT1H
BEGIN:VTIMEZONE
TZID:UTC
BEGIN:STANDARD
TZOFFSETFROM:+0000
TZOFFSETTO:+0000
TZNAME:UTC
DTSTART:20170101T000000
END:STANDARD
END:VTIMEZONE
BEGIN:VEVENT
DTSTART;VALUE=DATE:20180414
DTEND;VALUE=DATE:20180415
DTSTAMP:20260422T125229
CREATED:20180220T064835Z
LAST-MODIFIED:20180220T065948Z
UID:2276-1523664000-1523750399@maureenjohnsonbooks.com
SUMMARY:Teen Author Boot Camp\, Provo\, UT
DESCRIPTION:
URL:https://maureenjohnsonbooks.com/event/teen-author-boot-camp/
LOCATION:Utah Valley Convention Center\, 220 Center Street\, Provo\, UT\, 84601
ATTACH;FMTTYPE=image/jpeg:https://maureenjohnsonbooks.com/wp-content/uploads/2020/01/M-1-High-Res-scaled.jpg
END:VEVENT
END:VCALENDAR