BEGIN:VCALENDAR
VERSION:2.0
PRODID:-//Maureen Johnson - ECPv6.15.20//NONSGML v1.0//EN
CALSCALE:GREGORIAN
METHOD:PUBLISH
X-WR-CALNAME:Maureen Johnson
X-ORIGINAL-URL:https://maureenjohnsonbooks.com
X-WR-CALDESC:Events for Maureen Johnson
REFRESH-INTERVAL;VALUE=DURATION:PT1H
X-Robots-Tag:noindex
X-PUBLISHED-TTL:PT1H
BEGIN:VTIMEZONE
TZID:America/New_York
BEGIN:DAYLIGHT
TZOFFSETFROM:-0500
TZOFFSETTO:-0400
TZNAME:EDT
DTSTART:20200308T070000
END:DAYLIGHT
BEGIN:STANDARD
TZOFFSETFROM:-0400
TZOFFSETTO:-0500
TZNAME:EST
DTSTART:20201101T060000
END:STANDARD
BEGIN:DAYLIGHT
TZOFFSETFROM:-0500
TZOFFSETTO:-0400
TZNAME:EDT
DTSTART:20210314T070000
END:DAYLIGHT
BEGIN:STANDARD
TZOFFSETFROM:-0400
TZOFFSETTO:-0500
TZNAME:EST
DTSTART:20211107T060000
END:STANDARD
BEGIN:DAYLIGHT
TZOFFSETFROM:-0500
TZOFFSETTO:-0400
TZNAME:EDT
DTSTART:20220313T070000
END:DAYLIGHT
BEGIN:STANDARD
TZOFFSETFROM:-0400
TZOFFSETTO:-0500
TZNAME:EST
DTSTART:20221106T060000
END:STANDARD
END:VTIMEZONE
BEGIN:VEVENT
DTSTART;TZID=America/New_York:20210617T220000
DTEND;TZID=America/New_York:20210617T230000
DTSTAMP:20260421T053856
CREATED:20210517T161111Z
LAST-MODIFIED:20210517T165052Z
UID:3123-1623967200-1623970800@maureenjohnsonbooks.com
SUMMARY:The Box in the Woods: talking Agatha Christie and all things classic mystery with the hosts of All About Agatha
DESCRIPTION:Come get your Agatha on! Lets talk all things country house murder\, body in the library\, poison pen letters\, and evil doings in the village. The Stevie Bell mysteries are in the mold of the classic murder mystery\, so who better to chat with than Catherine Brobeck and Kemper Donovan? Hosted by Mysterious Galaxy Bookstore. \nAdmission: purchase of signed book. Click here to get yours!
URL:https://maureenjohnsonbooks.com/event/the-box-in-the-woods-talking-agatha-christie-and-all-things-classic-mystery-with-the-hosts-of-all-about-agatha/
ATTACH;FMTTYPE=image/jpeg:https://maureenjohnsonbooks.com/wp-content/uploads/2020/01/M-1-High-Res-scaled.jpg
END:VEVENT
END:VCALENDAR