BEGIN:VCALENDAR
VERSION:2.0
PRODID:-//Maureen Johnson - ECPv6.15.20//NONSGML v1.0//EN
CALSCALE:GREGORIAN
METHOD:PUBLISH
X-WR-CALNAME:Maureen Johnson
X-ORIGINAL-URL:https://maureenjohnsonbooks.com
X-WR-CALDESC:Events for Maureen Johnson
REFRESH-INTERVAL;VALUE=DURATION:PT1H
X-Robots-Tag:noindex
X-PUBLISHED-TTL:PT1H
BEGIN:VTIMEZONE
TZID:America/New_York
BEGIN:DAYLIGHT
TZOFFSETFROM:-0500
TZOFFSETTO:-0400
TZNAME:EDT
DTSTART:20200308T070000
END:DAYLIGHT
BEGIN:STANDARD
TZOFFSETFROM:-0400
TZOFFSETTO:-0500
TZNAME:EST
DTSTART:20201101T060000
END:STANDARD
BEGIN:DAYLIGHT
TZOFFSETFROM:-0500
TZOFFSETTO:-0400
TZNAME:EDT
DTSTART:20210314T070000
END:DAYLIGHT
BEGIN:STANDARD
TZOFFSETFROM:-0400
TZOFFSETTO:-0500
TZNAME:EST
DTSTART:20211107T060000
END:STANDARD
BEGIN:DAYLIGHT
TZOFFSETFROM:-0500
TZOFFSETTO:-0400
TZNAME:EDT
DTSTART:20220313T070000
END:DAYLIGHT
BEGIN:STANDARD
TZOFFSETFROM:-0400
TZOFFSETTO:-0500
TZNAME:EST
DTSTART:20221106T060000
END:STANDARD
END:VTIMEZONE
BEGIN:VEVENT
DTSTART;TZID=America/New_York:20210619T140000
DTEND;TZID=America/New_York:20210619T150000
DTSTAMP:20260421T070716
CREATED:20210517T164949Z
LAST-MODIFIED:20210517T165150Z
UID:3127-1624111200-1624114800@maureenjohnsonbooks.com
SUMMARY:The Box in the Woods: talking contemporary mystery with Faridah Àbíké-Íyímídé
DESCRIPTION:Let’s talk contemporary mysteries! What’s going on how? How are our detectives faring? Where do you hide the clues when everything seems discoverable? I’ll be in conversation with Faridah Ábíké-Íyímídé\, author of Ace of Spades\, to figure it all out! Hosted by The Doylestown Bookshop. \nAdmission: purchase of signed book. Click here to get yours!
URL:https://maureenjohnsonbooks.com/event/the-box-in-the-woods-talking-contemporary-mystery-with-faridah-abike-iyimide/
ATTACH;FMTTYPE=image/jpeg:https://maureenjohnsonbooks.com/wp-content/uploads/2020/01/M-1-High-Res-scaled.jpg
END:VEVENT
END:VCALENDAR